BEGIN:VCALENDAR
VERSION:2.0
PRODID:-//Lake Superior Reserve - ECPv6.15.20//NONSGML v1.0//EN
CALSCALE:GREGORIAN
METHOD:PUBLISH
X-ORIGINAL-URL:https://lakesuperiornerr.org
X-WR-CALDESC:Events for Lake Superior Reserve
REFRESH-INTERVAL;VALUE=DURATION:PT1H
X-Robots-Tag:noindex
X-PUBLISHED-TTL:PT1H
BEGIN:VTIMEZONE
TZID:America/Chicago
BEGIN:DAYLIGHT
TZOFFSETFROM:-0600
TZOFFSETTO:-0500
TZNAME:CDT
DTSTART:20200308T080000
END:DAYLIGHT
BEGIN:STANDARD
TZOFFSETFROM:-0500
TZOFFSETTO:-0600
TZNAME:CST
DTSTART:20201101T070000
END:STANDARD
BEGIN:DAYLIGHT
TZOFFSETFROM:-0600
TZOFFSETTO:-0500
TZNAME:CDT
DTSTART:20210314T080000
END:DAYLIGHT
BEGIN:STANDARD
TZOFFSETFROM:-0500
TZOFFSETTO:-0600
TZNAME:CST
DTSTART:20211107T070000
END:STANDARD
BEGIN:DAYLIGHT
TZOFFSETFROM:-0600
TZOFFSETTO:-0500
TZNAME:CDT
DTSTART:20220313T080000
END:DAYLIGHT
BEGIN:STANDARD
TZOFFSETFROM:-0500
TZOFFSETTO:-0600
TZNAME:CST
DTSTART:20221106T070000
END:STANDARD
END:VTIMEZONE
BEGIN:VEVENT
DTSTART;TZID=America/Chicago:20210112T130000
DTEND;TZID=America/Chicago:20210112T140000
DTSTAMP:20260424T161807
CREATED:20201216T231847Z
LAST-MODIFIED:20201218T150445Z
UID:2989-1610456400-1610460000@lakesuperiornerr.org
SUMMARY:Foundations of Inclusive Science Communication
DESCRIPTION:[cs_content][cs_section parallax=”false” separator_top_type=”none” separator_top_height=”50px” separator_top_inset=”0px” separator_top_angle_point=”50″ separator_bottom_type=”none” separator_bottom_height=”50px” separator_bottom_inset=”0px” separator_bottom_angle_point=”50″ _label=”SciComm Event Details” style=”margin: 0px;padding: 0px;”][cs_row inner_container=”true” marginless_columns=”false” style=”margin: 0px auto;padding: 0px;”][cs_column fade=”false” fade_animation=”in” fade_animation_offset=”45px” fade_duration=”750″ type=”1/1″ class=”cs-ta-left” style=”padding: 0px;”][cs_text class=”mtl mbm”]Dr. Kaytee Canfield\, Postdoctoral Researcher in Translational Science\, Environmental Protection Agency[/cs_text][cs_text]This webinar will introduce attendees to science communication from a JEDI (justice\, equity\, diversity\, and inclusion) perspective\, including inclusive science communication strategies\, public inclusion in science\, and the relevance of inclusive “scicomm” to scientists\, communicators\, and those who find themselves somewhere in between.[/cs_text][x_button size=”global” block=”false” circle=”false” icon_only=”false” href=”/scicomm/” title=”” target=”” info=”none” info_place=”top” info_trigger=”hover” info_content=”” class=”outline-button-blue mtm”]Webinar Details & Registration[/x_button][/cs_column][/cs_row][/cs_section][/cs_content][cs_content_seo]Dr. Kaytee Canfield\, Postdoctoral Researcher in Translational Science\, Environmental Protection Agency\nThis webinar will introduce attendees to science communication from a JEDI (justice\, equity\, diversity\, and inclusion) perspective\, including inclusive science communication strategies\, public inclusion in science\, and the relevance of inclusive “scicomm” to scientists\, communicators\, and those who find themselves somewhere in between.\nWebinar Details & Registration[/cs_content_seo]
URL:https://lakesuperiornerr.org/event/foundations-of-inclusive-science-communication/
LOCATION:Webinar
CATEGORIES:Coastal Training Program
ATTACH;FMTTYPE=image/jpeg:https://lakesuperiornerr.org/wp-content/uploads/sites/319/2020/12/scicomm-event.jpg
END:VEVENT
BEGIN:VEVENT
DTSTART;TZID=America/Chicago:20210126T090000
DTEND;TZID=America/Chicago:20210126T110000
DTSTAMP:20260424T161807
CREATED:20201217T055709Z
LAST-MODIFIED:20201218T150435Z
UID:2992-1611651600-1611658800@lakesuperiornerr.org
SUMMARY:Social Science Basics for Lake Superior Coastal Managers
DESCRIPTION:[cs_content][cs_section parallax=”false” separator_top_type=”none” separator_top_height=”50px” separator_top_inset=”0px” separator_top_angle_point=”50″ separator_bottom_type=”none” separator_bottom_height=”50px” separator_bottom_inset=”0px” separator_bottom_angle_point=”50″ _label=”SciComm Event Details” style=”margin: 0px;padding: 0px;”][cs_row inner_container=”true” marginless_columns=”false” style=”margin: 0px auto;padding: 0px;”][cs_column fade=”false” fade_animation=”in” fade_animation_offset=”45px” fade_duration=”750″ type=”1/1″ class=”cs-ta-left” style=”padding: 0px;”][cs_text class=”mtl mbm”] \n \nSocial Science Basics for Lake Superior Coastal Managers\nNOAA Office for Coastal Management\, Digital Coast \n\nCapacity: 30\nRegistration deadline Monday\, January 18\, 2021 \n[/cs_text][cs_text]This training provides the basic knowledge and skills to help Lake Superior professionals develop more effective social surveys and avoid common survey design pitfalls.[/cs_text][x_button size=”global” block=”false” circle=”false” icon_only=”false” href=”/scicomm/” title=”” target=”” info=”none” info_place=”top” info_trigger=”hover” info_content=”” class=”outline-button-blue mtm”]Webinar Details & Registration[/x_button][/cs_column][/cs_row][/cs_section][/cs_content][cs_content_seo]Social Science Basics for Lake Superior Coastal Managers\nNOAA Office for Coastal Management\, Digital Coast \nCapacity: 30\nRegistration deadline Monday\, January 18\, 2021\nThis training provides the basic knowledge and skills to help Lake Superior professionals develop more effective social surveys and avoid common survey design pitfalls.\nWebinar Details & Registration[/cs_content_seo]
URL:https://lakesuperiornerr.org/event/social-science-basics-for-lake-superior-coastal-managers/
LOCATION:Virtual Workshop
CATEGORIES:Coastal Training Program
ATTACH;FMTTYPE=image/jpeg:https://lakesuperiornerr.org/wp-content/uploads/sites/319/2020/12/scicomm-event.jpg
END:VEVENT
END:VCALENDAR