BEGIN:VCALENDAR
VERSION:2.0
PRODID:-//Lake Superior Reserve - ECPv6.15.20//NONSGML v1.0//EN
CALSCALE:GREGORIAN
METHOD:PUBLISH
X-WR-CALNAME:Lake Superior Reserve
X-ORIGINAL-URL:https://lakesuperiornerr.org
X-WR-CALDESC:Events for Lake Superior Reserve
REFRESH-INTERVAL;VALUE=DURATION:PT1H
X-Robots-Tag:noindex
X-PUBLISHED-TTL:PT1H
BEGIN:VTIMEZONE
TZID:America/Chicago
BEGIN:DAYLIGHT
TZOFFSETFROM:-0600
TZOFFSETTO:-0500
TZNAME:CDT
DTSTART:20200308T080000
END:DAYLIGHT
BEGIN:STANDARD
TZOFFSETFROM:-0500
TZOFFSETTO:-0600
TZNAME:CST
DTSTART:20201101T070000
END:STANDARD
BEGIN:DAYLIGHT
TZOFFSETFROM:-0600
TZOFFSETTO:-0500
TZNAME:CDT
DTSTART:20210314T080000
END:DAYLIGHT
BEGIN:STANDARD
TZOFFSETFROM:-0500
TZOFFSETTO:-0600
TZNAME:CST
DTSTART:20211107T070000
END:STANDARD
BEGIN:DAYLIGHT
TZOFFSETFROM:-0600
TZOFFSETTO:-0500
TZNAME:CDT
DTSTART:20220313T080000
END:DAYLIGHT
BEGIN:STANDARD
TZOFFSETFROM:-0500
TZOFFSETTO:-0600
TZNAME:CST
DTSTART:20221106T070000
END:STANDARD
END:VTIMEZONE
BEGIN:VEVENT
DTSTART;TZID=America/Chicago:20210210T100000
DTEND;TZID=America/Chicago:20210210T113000
DTSTAMP:20260424T144704
CREATED:20201217T061301Z
LAST-MODIFIED:20221123T202555Z
UID:2993-1612951200-1612956600@lakesuperiornerr.org
SUMMARY:Seven Best Practices for Risk Communication
DESCRIPTION:[cs_content][cs_section parallax=”false” separator_top_type=”none” separator_top_height=”50px” separator_top_inset=”0px” separator_top_angle_point=”50″ separator_bottom_type=”none” separator_bottom_height=”50px” separator_bottom_inset=”0px” separator_bottom_angle_point=”50″ _label=”SciComm Event Details” style=”margin: 0px;padding: 0px;”][cs_row inner_container=”true” marginless_columns=”false” style=”margin: 0px auto;padding: 0px;”][cs_column fade=”false” fade_animation=”in” fade_animation_offset=”45px” fade_duration=”750″ type=”1/1″ class=”cs-ta-left” style=”padding: 0px;”][cs_text class=”mtl mbm”] \nSeven Best Practices for Risk Communication\nNOAA Office for Coastal Management\, Digital Coast \nCapacity: 50\nRegistration deadline Tuesday\, February 2nd \n[/cs_text][cs_text]This interactive webinar introduces participants to best practices and techniques for communicating with coastal stakeholders and communities about coastal hazards and associated risks.[/cs_text][x_button size=”global” block=”false” circle=”false” icon_only=”false” href=”/scicomm/” title=”” target=”” info=”none” info_place=”top” info_trigger=”hover” info_content=”” class=”outline-button-blue mtm”]Webinar Details & Registration[/x_button][/cs_column][/cs_row][/cs_section][/cs_content][cs_content_seo]Seven Best Practices for Risk Communication\nNOAA Office for Coastal Management\, Digital Coast\nCapacity: 50\nRegistration deadline Tuesday\, February 2nd\nThis interactive webinar introduces participants to best practices and techniques for communicating with coastal stakeholders and communities about coastal hazards and associated risks.\nWebinar Details & Registration[/cs_content_seo]
URL:https://lakesuperiornerr.org/event/seven-best-practices-for-risk-communication/
LOCATION:Webinar
CATEGORIES:Coastal Training Program,Science Communication Series Webinar
ATTACH;FMTTYPE=image/jpeg:https://lakesuperiornerr.org/wp-content/uploads/sites/319/2020/12/scicomm-event.jpg
END:VEVENT
BEGIN:VEVENT
DTSTART;TZID=America/Chicago:20210223T100000
DTEND;TZID=America/Chicago:20210223T113000
DTSTAMP:20260424T144704
CREATED:20201217T061710Z
LAST-MODIFIED:20201218T191420Z
UID:2994-1614074400-1614079800@lakesuperiornerr.org
SUMMARY:15 Strategies for Communicating Science and Data to Non-Scientists
DESCRIPTION:[cs_content][cs_section parallax=”false” separator_top_type=”none” separator_top_height=”50px” separator_top_inset=”0px” separator_top_angle_point=”50″ separator_bottom_type=”none” separator_bottom_height=”50px” separator_bottom_inset=”0px” separator_bottom_angle_point=”50″ _label=”SciComm Event Details” style=”margin: 0px;padding: 0px;”][cs_row inner_container=”true” marginless_columns=”false” style=”margin: 0px auto;padding: 0px;”][cs_column fade=”false” fade_animation=”in” fade_animation_offset=”45px” fade_duration=”750″ type=”1/1″ class=”cs-ta-left” style=”padding: 0px;”][cs_text class=”mtl mbm”] \n15 Strategies for Communicating Science and Data to Non-Scientists\nCathy Angell\, Cathy Angell Communications \nCapacity: 50\nRegistration Deadline Monday\, February 15\, 2021 \n[/cs_text][cs_text]A fast-paced workshop designed to help scientists\, educators\, and officials deliver effective and easy-to-understand PowerPoint presentations.[/cs_text][x_button size=”global” block=”false” circle=”false” icon_only=”false” href=”/scicomm/” title=”” target=”” info=”none” info_place=”top” info_trigger=”hover” info_content=”” class=”outline-button-blue mtm”]Webinar Details & Registration[/x_button][/cs_column][/cs_row][/cs_section][/cs_content][cs_content_seo]15 Strategies for Communicating Science and Data to Non-Scientists\nCathy Angell\, Cathy Angell Communications\nCapacity: 50\nRegistration Deadline Monday\, February 15\, 2021\nA fast-paced workshop designed to help scientists\, educators\, and officials deliver effective and easy-to-understand PowerPoint presentations.\nWebinar Details & Registration[/cs_content_seo]
URL:https://lakesuperiornerr.org/event/15-strategies-for-communicating-science-to-non-scientists/
LOCATION:Virtual Workshop
CATEGORIES:Coastal Training Program
ATTACH;FMTTYPE=image/jpeg:https://lakesuperiornerr.org/wp-content/uploads/sites/319/2020/12/scicomm-event.jpg
END:VEVENT
END:VCALENDAR