BEGIN:VCALENDAR
VERSION:2.0
PRODID:-//Lake Superior Reserve - ECPv6.15.20//NONSGML v1.0//EN
CALSCALE:GREGORIAN
METHOD:PUBLISH
X-ORIGINAL-URL:https://lakesuperiornerr.org
X-WR-CALDESC:Events for Lake Superior Reserve
REFRESH-INTERVAL;VALUE=DURATION:PT1H
X-Robots-Tag:noindex
X-PUBLISHED-TTL:PT1H
BEGIN:VTIMEZONE
TZID:America/Chicago
BEGIN:DAYLIGHT
TZOFFSETFROM:-0600
TZOFFSETTO:-0500
TZNAME:CDT
DTSTART:20200308T080000
END:DAYLIGHT
BEGIN:STANDARD
TZOFFSETFROM:-0500
TZOFFSETTO:-0600
TZNAME:CST
DTSTART:20201101T070000
END:STANDARD
BEGIN:DAYLIGHT
TZOFFSETFROM:-0600
TZOFFSETTO:-0500
TZNAME:CDT
DTSTART:20210314T080000
END:DAYLIGHT
BEGIN:STANDARD
TZOFFSETFROM:-0500
TZOFFSETTO:-0600
TZNAME:CST
DTSTART:20211107T070000
END:STANDARD
BEGIN:DAYLIGHT
TZOFFSETFROM:-0600
TZOFFSETTO:-0500
TZNAME:CDT
DTSTART:20220313T080000
END:DAYLIGHT
BEGIN:STANDARD
TZOFFSETFROM:-0500
TZOFFSETTO:-0600
TZNAME:CST
DTSTART:20221106T070000
END:STANDARD
END:VTIMEZONE
BEGIN:VEVENT
DTSTART;TZID=America/Chicago:20210923T090000
DTEND;TZID=America/Chicago:20210923T130000
DTSTAMP:20260424T044853
CREATED:20210827T150408Z
LAST-MODIFIED:20210827T161353Z
UID:3151-1632387600-1632402000@lakesuperiornerr.org
SUMMARY:Smart Salting for Property Managers Online Training
DESCRIPTION:[cs_content][cs_section parallax=”false” separator_top_type=”none” separator_top_height=”50px” separator_top_inset=”0px” separator_top_angle_point=”50″ separator_bottom_type=”none” separator_bottom_height=”50px” separator_bottom_inset=”0px” separator_bottom_angle_point=”50″ _bp_base=”3_4″ style=”margin: 0px;padding: 0px;”][cs_row inner_container=”true” marginless_columns=”false” _bp_base=”3_4″ style=”margin: 0px auto;padding: 0px;”][cs_column fade=”false” fade_animation=”in” fade_animation_offset=”45px” fade_duration=”750″ _bp_base=”3_4″ type=”2/3″ class=”cs-ta-left” style=”padding: 0px;”][x_button size=”global” block=”false” circle=”false” icon_only=”false” href=”https://bit.ly/2V0meIn” title=”” target=”” info=”none” info_place=”top” info_trigger=”hover” info_content=”” class=”outline-button-blue mbs mtl”]Register for Smart Salting Online Training[/x_button][x_custom_headline level=”h1″ looks_like=”h2″ accent=”false” class=”mbm”]MPCA Smart Salting for Property Management[/x_custom_headline][cs_text _bp_base=”3_4″] \nCost: FREE\, but registration required. Space limited. \nWho should attend: property and facilities managers\, business owners\, organization leaders\, environmental professionals\, local decision-makers \nCollectively\, we spread a lot of salt in the winter. What if we didn’t have to?\nIf you manage winter maintenance of properties to keep spaces safe and passable for visitors\, this (free!) online certification training course will help you learn how to plan for less salt and still win winter. \nIn this region\, we spread salt on sidewalks\, parking lots\, roads and driveways to melt ice and allow safe passage. More salt is not always better. Our well-intentioned efforts to keep spaces clear of ice sometimes amounts to use of far more salt than is necessary to get the job done. Talk about money down the drain! \nAs property managers\, business owners\, and community decision-makers\, you have an important role in planning\, budgeting\, and managing winter access in our communities. If you manage winter maintenance of public or private properties\, this online Smart Salting class is designed for you. \nLearn more about this FREE online training \n[/cs_text][/cs_column][cs_column fade=”false” fade_animation=”in” fade_animation_offset=”45px” fade_duration=”750″ _bp_base=”3_4″ type=”1/3″ style=”padding: 0px;”][cs_element_image _id=”8″ ][/cs_column][/cs_row][/cs_section][/cs_content]
URL:https://lakesuperiornerr.org/event/smart-salting-for-property-managers-online-training/
LOCATION:Online Training
CATEGORIES:Coastal Training Program,General
ATTACH;FMTTYPE=image/jpeg:https://lakesuperiornerr.org/wp-content/uploads/sites/319/2021/08/2021-smart-salter-training.jpg
ORGANIZER;CN="Karina Heim":MAILTO:karina.heim@wisc.edu
END:VEVENT
END:VCALENDAR