BEGIN:VCALENDAR
VERSION:2.0
PRODID:-//Lake Superior Reserve - ECPv6.15.20//NONSGML v1.0//EN
CALSCALE:GREGORIAN
METHOD:PUBLISH
X-WR-CALNAME:Lake Superior Reserve
X-ORIGINAL-URL:https://lakesuperiornerr.org
X-WR-CALDESC:Events for Lake Superior Reserve
REFRESH-INTERVAL;VALUE=DURATION:PT1H
X-Robots-Tag:noindex
X-PUBLISHED-TTL:PT1H
BEGIN:VTIMEZONE
TZID:America/Chicago
BEGIN:DAYLIGHT
TZOFFSETFROM:-0600
TZOFFSETTO:-0500
TZNAME:CDT
DTSTART:20200308T080000
END:DAYLIGHT
BEGIN:STANDARD
TZOFFSETFROM:-0500
TZOFFSETTO:-0600
TZNAME:CST
DTSTART:20201101T070000
END:STANDARD
BEGIN:DAYLIGHT
TZOFFSETFROM:-0600
TZOFFSETTO:-0500
TZNAME:CDT
DTSTART:20210314T080000
END:DAYLIGHT
BEGIN:STANDARD
TZOFFSETFROM:-0500
TZOFFSETTO:-0600
TZNAME:CST
DTSTART:20211107T070000
END:STANDARD
BEGIN:DAYLIGHT
TZOFFSETFROM:-0600
TZOFFSETTO:-0500
TZNAME:CDT
DTSTART:20220313T080000
END:DAYLIGHT
BEGIN:STANDARD
TZOFFSETFROM:-0500
TZOFFSETTO:-0600
TZNAME:CST
DTSTART:20221106T070000
END:STANDARD
END:VTIMEZONE
BEGIN:VEVENT
DTSTART;TZID=America/Chicago:20211109T130000
DTEND;TZID=America/Chicago:20211109T150000
DTSTAMP:20260424T020530
CREATED:20211013T173325Z
LAST-MODIFIED:20211018T201954Z
UID:3205-1636462800-1636470000@lakesuperiornerr.org
SUMMARY:15 Strategies for Communicating Science and Data to Non-Scientists
DESCRIPTION:[cs_content][cs_section parallax=”false” separator_top_type=”none” separator_top_height=”50px” separator_top_inset=”0px” separator_top_angle_point=”50″ separator_bottom_type=”none” separator_bottom_height=”50px” separator_bottom_inset=”0px” separator_bottom_angle_point=”50″ _bp_base=”3_4″ style=”margin: 0px;padding: 0px;”][cs_row inner_container=”true” marginless_columns=”false” _bp_base=”3_4″ style=”margin: 0px auto;padding: 0px;”][cs_column fade=”false” fade_animation=”in” fade_animation_offset=”45px” fade_duration=”750″ _bp_base=”3_4″ type=”1/1″ class=”cs-ta-left” style=”padding: 0px;”][x_custom_headline level=”h3″ looks_like=”h6″ accent=”false”]Event Details[/x_custom_headline][cs_text _bp_base=”3_4″] \n15 Strategies for Communicating Science and Data to Non-Scientists\nCathy Angell\, Cathy Angell Communications \nTuesday\, November 9\, 2021\n1:00-3:00pm CT/2:00-4:00pm ET\nCapacity: 50 \nRegister for Course \nTake this course if you… \n\nDeliver science-based presentations.\nEver feel “stuck” when you design PowerPoints.\n\nAbout the Course\nDo you speak at conferences\, public meetings\, or other events where you need to convey a science-based message? Have you ever felt like you couldn’t quite hold the attention of your audience or communicate your message in a way they could understand? Would you like to learn a simpler\, more effective way to design your slides? This popular course will show you how to: \n\nPresent visuals that have impact\nUse techniques that will keep your audience engaged in both a live or virtual setting\nDeliver data in a way that sticks in people’s brains\nTransform the way you do PowerPoint\n\nAbout the Speaker\nCathy Angell\, M.Ed.\, is the owner of Cathy Angell Communications and specializes in presentation design and delivery for scientists\, educators\, and public officials. Cathy’s trainings are offered both in-person and online. She was the former coordinator of Washington’s Coastal Training Program\, considered to be one of the most successful training programs in the country for coastal managers. Cathy is nationally known for her transformative methods and received a communications award from NOAA which is given out each year in her honor.\n \n[/cs_text][/cs_column][/cs_row][/cs_section][/cs_content]
URL:https://lakesuperiornerr.org/event/15-strategies-for-communicating-science-and-data-to-non-scientists/
LOCATION:Virtual Training
CATEGORIES:Coastal Training Program,General
ATTACH;FMTTYPE=image/jpeg:https://lakesuperiornerr.org/wp-content/uploads/sites/319/2021/10/15-strategies-event.jpg
ORGANIZER;CN="Karina Heim":MAILTO:karina.heim@wisc.edu
END:VEVENT
BEGIN:VEVENT
DTSTART;TZID=America/Chicago:20211109T130000
DTEND;TZID=America/Chicago:20211109T150000
DTSTAMP:20260424T020530
CREATED:20221123T193903Z
LAST-MODIFIED:20221123T193903Z
UID:3827-1636462800-1636470000@lakesuperiornerr.org
SUMMARY:15 Strategies for Communicating Science and Data to Non-Scientists
DESCRIPTION:Take this course if you… \n\nDeliver science-based presentations.\nEver feel “stuck” when you design PowerPoints.\n\nAbout the Course\nDo you speak at conferences\, public meetings\, or other events where you need to convey a science-based message? Have you ever felt like you couldn’t quite hold the attention of your audience or communicate your message in a way they could understand? Would you like to learn a simpler\, more effective way to design your slides? This popular course will show you how to: \n\nPresent visuals that have impact\nUse techniques that will keep your audience engaged in both a live or virtual setting\nDeliver data in a way that sticks in people’s brains\nTransform the way you do PowerPoint\n\nAbout the Speaker\nCathy Angell\, M.Ed.\, is the owner of Cathy Angell Communications and specializes in presentation design and delivery for scientists\, educators\, and public officials. Cathy’s trainings are offered both in-person and online. She was the former coordinator of Washington’s Coastal Training Program\, considered to be one of the most successful training programs in the country for coastal managers. Cathy is nationally known for her transformative methods and received a communications award from NOAA which is given out each year in her honor.
URL:https://lakesuperiornerr.org/event/15-strategies-for-communicating-science-and-data-to-non-scientists-2/
LOCATION:Online Training
CATEGORIES:Coastal Training Program,Get Your Science Moving 2021
ORGANIZER;CN="Karina Heim":MAILTO:karina.heim@wisc.edu
END:VEVENT
END:VCALENDAR