BEGIN:VCALENDAR
VERSION:2.0
PRODID:-//Lake Superior Reserve - ECPv6.15.17.1//NONSGML v1.0//EN
CALSCALE:GREGORIAN
METHOD:PUBLISH
X-ORIGINAL-URL:https://lakesuperiornerr.org
X-WR-CALDESC:Events for Lake Superior Reserve
REFRESH-INTERVAL;VALUE=DURATION:PT1H
X-Robots-Tag:noindex
X-PUBLISHED-TTL:PT1H
BEGIN:VTIMEZONE
TZID:America/Chicago
BEGIN:DAYLIGHT
TZOFFSETFROM:-0600
TZOFFSETTO:-0500
TZNAME:CDT
DTSTART:20230312T080000
END:DAYLIGHT
BEGIN:STANDARD
TZOFFSETFROM:-0500
TZOFFSETTO:-0600
TZNAME:CST
DTSTART:20231105T070000
END:STANDARD
BEGIN:DAYLIGHT
TZOFFSETFROM:-0600
TZOFFSETTO:-0500
TZNAME:CDT
DTSTART:20240310T080000
END:DAYLIGHT
BEGIN:STANDARD
TZOFFSETFROM:-0500
TZOFFSETTO:-0600
TZNAME:CST
DTSTART:20241103T070000
END:STANDARD
BEGIN:DAYLIGHT
TZOFFSETFROM:-0600
TZOFFSETTO:-0500
TZNAME:CDT
DTSTART:20250309T080000
END:DAYLIGHT
BEGIN:STANDARD
TZOFFSETFROM:-0500
TZOFFSETTO:-0600
TZNAME:CST
DTSTART:20251102T070000
END:STANDARD
END:VTIMEZONE
BEGIN:VEVENT
DTSTART;TZID=America/Chicago:20240918T090000
DTEND;TZID=America/Chicago:20240918T110000
DTSTAMP:20260421T214508
CREATED:20240503T182129Z
LAST-MODIFIED:20240503T183251Z
UID:5771-1726650000-1726657200@lakesuperiornerr.org
SUMMARY:What’s in a Story? 
DESCRIPTION:Exploring Narrative to Capture and Explain Impact\n\n\n\n\n\nCapacity:\n\n\n\n50 \n\n\n\nObjectives:\n\n\n\n\nLearn about narrative development as an approach to capture and explain impact\n\n\n\nHear example impact narratives from the Great Lakes region\n\n\n\nExplore developing your own impact narrative \n\n\n\nReflect on the potential uses of narratives for understanding and communicating about impact\n\n\n\n\nDescription\n\n\n\nWhat would you say if someone asked you\, “What’s the impact of your work?” Would you have a quick and satisfying answer? Or would you struggle with where to begin or how to frame the impact of your work\, especially when you know there were other contributing factors? Now think about what you would say if someone asked you\, “Can you think of a moment when you realized the impacts of your work? Describe it. What made that moment possible and what came after?” Both sets of questions have a similar focus\, but the latter invites a different approach to reflecting and sharing about impact. It supports sharing with both context and explanation which provides a much richer understanding. It also reduces pressure to name only what you feel you alone can claim\, an instinct many of us have when\, in fact\, change and impact come about in complex ways. \n\n\n\nThe NERRS Science Collaborative has been exploring narrative and story development to support the NERRS and their partners in capturing and explaining the expansive impacts of their work. In this session\, we will share about this exploration and what we have been learning. This will include sharing example impact narratives from the Great Lakes region and how we worked with reserve staff to develop them. Participants will have the opportunity to work in small groups to begin developing their own narratives and then we will discuss their potential uses for communicating about impact. \n\n\n\nTo find out more about the “What’s in a Story?” event or to register click here
URL:https://lakesuperiornerr.org/event/whats-in-a-story/
LOCATION:WI
CATEGORIES:Building Blocks for Sharing Science,Coastal Training Program
ATTACH;FMTTYPE=image/png:https://lakesuperiornerr.org/wp-content/uploads/sites/319/2024/05/Building-Blocks-2024-whats-in-a-story.png
ORGANIZER;CN="Karina Heim":MAILTO:karina.heim@wisc.edu
END:VEVENT
END:VCALENDAR