BEGIN:VCALENDAR
VERSION:2.0
PRODID:-//Lake Superior Reserve - ECPv6.15.20//NONSGML v1.0//EN
CALSCALE:GREGORIAN
METHOD:PUBLISH
X-ORIGINAL-URL:https://lakesuperiornerr.org
X-WR-CALDESC:Events for Lake Superior Reserve
REFRESH-INTERVAL;VALUE=DURATION:PT1H
X-Robots-Tag:noindex
X-PUBLISHED-TTL:PT1H
BEGIN:VTIMEZONE
TZID:America/Chicago
BEGIN:DAYLIGHT
TZOFFSETFROM:-0600
TZOFFSETTO:-0500
TZNAME:CDT
DTSTART:20230312T080000
END:DAYLIGHT
BEGIN:STANDARD
TZOFFSETFROM:-0500
TZOFFSETTO:-0600
TZNAME:CST
DTSTART:20231105T070000
END:STANDARD
BEGIN:DAYLIGHT
TZOFFSETFROM:-0600
TZOFFSETTO:-0500
TZNAME:CDT
DTSTART:20240310T080000
END:DAYLIGHT
BEGIN:STANDARD
TZOFFSETFROM:-0500
TZOFFSETTO:-0600
TZNAME:CST
DTSTART:20241103T070000
END:STANDARD
BEGIN:DAYLIGHT
TZOFFSETFROM:-0600
TZOFFSETTO:-0500
TZNAME:CDT
DTSTART:20250309T080000
END:DAYLIGHT
BEGIN:STANDARD
TZOFFSETFROM:-0500
TZOFFSETTO:-0600
TZNAME:CST
DTSTART:20251102T070000
END:STANDARD
BEGIN:DAYLIGHT
TZOFFSETFROM:-0600
TZOFFSETTO:-0500
TZNAME:CDT
DTSTART:20260308T080000
END:DAYLIGHT
BEGIN:STANDARD
TZOFFSETFROM:-0500
TZOFFSETTO:-0600
TZNAME:CST
DTSTART:20261101T070000
END:STANDARD
BEGIN:DAYLIGHT
TZOFFSETFROM:-0600
TZOFFSETTO:-0500
TZNAME:CDT
DTSTART:20270314T080000
END:DAYLIGHT
BEGIN:STANDARD
TZOFFSETFROM:-0500
TZOFFSETTO:-0600
TZNAME:CST
DTSTART:20271107T070000
END:STANDARD
END:VTIMEZONE
BEGIN:VEVENT
DTSTART;TZID=America/Chicago:20240718T120000
DTEND;TZID=America/Chicago:20240718T150000
DTSTAMP:20260424T152457
CREATED:20240503T180909Z
LAST-MODIFIED:20240503T183515Z
UID:5765-1721304000-1721314800@lakesuperiornerr.org
SUMMARY:Let’s Talk About Trust
DESCRIPTION:A Collaborative Learning Opportunity to Reflect on Building Long-Term Relationships with Underserved Communities\n\n\n\n\n\nThis course is split over two days\, July 16 and 18\, with a three-hour session on each day. You must be able to attend both sessions. \n\n\n\nCapacity:\n\n\n\n26 \n\n\n\nObjectives:\n\n\n\n\nExplore trust and its three key elements.\n\n\n\nReflect on your experience with building trust.\n\n\n\nShare ideas for how to build and maintain trust in professional relationships.\n\n\n\nConsider case studies on building trust with underserved communities in the Great Lakes region.\n\n\n\nDiscuss special considerations for trust-building with underserved communities. \n\n\n\nIdentify strategies to build trust with underserved communities.\n\n\n\n\nDescription:\n\n\n\nWe increasingly hear the message that working with underserved communities requires trust. Do you find yourself wondering\, what does trust mean? What does trust look like? How do we build trust\, or better yet\, work through distrust with partners? Join us for reflection and peer-to-peer sharing to build our collective knowledge of what trust with underserved communities truly looks like. If you have expertise to share or are just starting to think about this kind of work\, we want you to be part of the conversation. We will explore existing resources on trust\, discuss key concepts among peers\, and identify successful strategies to overcome challenges.  \n\n\n\n“Let’s Talk About Trust” will be a combination of two virtual meetings\, partnered activities\, and individual reflection (total time commitment is 6.5 hours). We will explore existing resources on trust\, discuss key concepts among peers\, and identify successful strategies to overcome  \n\n\n\nTo find out more about the “Let’s Talk About Trust” event or to register click here
URL:https://lakesuperiornerr.org/event/lets-talk-about-trust-2/
CATEGORIES:Building Blocks for Sharing Science,Coastal Training Program
ATTACH;FMTTYPE=image/png:https://lakesuperiornerr.org/wp-content/uploads/sites/319/2024/05/Building-Blocks-2024-lets-talk-about-trust.png
ORGANIZER;CN="Karina Heim":MAILTO:karina.heim@wisc.edu
END:VEVENT
BEGIN:VEVENT
DTSTART;TZID=America/Chicago:20240918T090000
DTEND;TZID=America/Chicago:20240918T110000
DTSTAMP:20260424T152457
CREATED:20240503T182129Z
LAST-MODIFIED:20240503T183251Z
UID:5771-1726650000-1726657200@lakesuperiornerr.org
SUMMARY:What’s in a Story? 
DESCRIPTION:Exploring Narrative to Capture and Explain Impact\n\n\n\n\n\nCapacity:\n\n\n\n50 \n\n\n\nObjectives:\n\n\n\n\nLearn about narrative development as an approach to capture and explain impact\n\n\n\nHear example impact narratives from the Great Lakes region\n\n\n\nExplore developing your own impact narrative \n\n\n\nReflect on the potential uses of narratives for understanding and communicating about impact\n\n\n\n\nDescription\n\n\n\nWhat would you say if someone asked you\, “What’s the impact of your work?” Would you have a quick and satisfying answer? Or would you struggle with where to begin or how to frame the impact of your work\, especially when you know there were other contributing factors? Now think about what you would say if someone asked you\, “Can you think of a moment when you realized the impacts of your work? Describe it. What made that moment possible and what came after?” Both sets of questions have a similar focus\, but the latter invites a different approach to reflecting and sharing about impact. It supports sharing with both context and explanation which provides a much richer understanding. It also reduces pressure to name only what you feel you alone can claim\, an instinct many of us have when\, in fact\, change and impact come about in complex ways. \n\n\n\nThe NERRS Science Collaborative has been exploring narrative and story development to support the NERRS and their partners in capturing and explaining the expansive impacts of their work. In this session\, we will share about this exploration and what we have been learning. This will include sharing example impact narratives from the Great Lakes region and how we worked with reserve staff to develop them. Participants will have the opportunity to work in small groups to begin developing their own narratives and then we will discuss their potential uses for communicating about impact. \n\n\n\nTo find out more about the “What’s in a Story?” event or to register click here
URL:https://lakesuperiornerr.org/event/whats-in-a-story/
CATEGORIES:Building Blocks for Sharing Science,Coastal Training Program
ATTACH;FMTTYPE=image/png:https://lakesuperiornerr.org/wp-content/uploads/sites/319/2024/05/Building-Blocks-2024-whats-in-a-story.png
ORGANIZER;CN="Karina Heim":MAILTO:karina.heim@wisc.edu
END:VEVENT
BEGIN:VEVENT
DTSTART;TZID=America/Chicago:20241030T120000
DTEND;TZID=America/Chicago:20241030T150000
DTSTAMP:20260424T152457
CREATED:20240503T174203Z
LAST-MODIFIED:20240624T185840Z
UID:5749-1730289600-1730300400@lakesuperiornerr.org
SUMMARY:Connecting the Dots with Your Project Plan
DESCRIPTION:12-3pm CT/1-4pm ET This course is split over two days\, October 30 and 31\, with a three-hour session on each day. You must be able to attend both sessions. \n\n\n\nCost:\n\n\n\n$20.00 \n\n\n\nCapacity:\n\n\n\n30 \n\n\n\nObjectives:\n\n\n\n\nLearn about project planning practices that increase your probability of success\n\n\n\nBecome familiar with project planning frameworks that can help make your thinking visible\n\n\n\nBecome aware of the characteristics of a well managed project and tools to proactively manage project timelines and deliverables\n\n\n\n\nDescription:\n\n\n\nDo you have an idea for a project but don’t know where to start? Are you looking to increase your comfort with planning and managing a project? This course is meant to help those with little or no formal experience become more proactive when it comes to planning and managing effective projects. Attend this condensed version of the NOAA Digital Coast Training’s offering to learn project planning practices that help you build in accountability and strategic thinking\, reveal assumptions\, and create a targeted effort with measurable results. Walk away with a concrete plan and clear next steps to help you successfully manage your project! \n\n\n\nTo find out more about the “Connecting the Dots with Your Project Plan” event or to register click here
URL:https://lakesuperiornerr.org/event/connecting-the-dots-with-your-project-plan/
CATEGORIES:Building Blocks for Sharing Science,Coastal Training Program
ATTACH;FMTTYPE=image/png:https://lakesuperiornerr.org/wp-content/uploads/sites/319/2024/06/Building-Blocks-2024-connecting-the-dots-02.png
ORGANIZER;CN="Karina Heim":MAILTO:karina.heim@wisc.edu
END:VEVENT
BEGIN:VEVENT
DTSTART;TZID=America/Chicago:20241031T120000
DTEND;TZID=America/Chicago:20241031T150000
DTSTAMP:20260424T152457
CREATED:20240503T175946Z
LAST-MODIFIED:20240624T190001Z
UID:5761-1730376000-1730386800@lakesuperiornerr.org
SUMMARY:Connecting the Dots with Your Project Plan
DESCRIPTION:12-3pm CT/1-4pm ET This course is split over two days\, October 30 and 31\, with a three-hour session on each day. You must be able to attend both sessions. \n\n\n\nCost:\n\n\n\n$20.00 \n\n\n\nCapacity:\n\n\n\n30 \n\n\n\nObjectives:\n\n\n\n\nLearn about project planning practices that increase your probability of success\n\n\n\nBecome familiar with project planning frameworks that can help make your thinking visible\n\n\n\nBecome aware of the characteristics of a well managed project and tools to proactively manage project timelines and deliverables\n\n\n\n\nDescription:\n\n\n\nDo you have an idea for a project but don’t know where to start? Are you looking to increase your comfort with planning and managing a project? This course is meant to help those with little or no formal experience become more proactive when it comes to planning and managing effective projects. Attend this condensed version of the NOAA Digital Coast Training’s offering to learn project planning practices that help you build in accountability and strategic thinking\, reveal assumptions\, and create a targeted effort with measurable results. Walk away with a concrete plan and clear next steps to help you successfully manage your project! \n\n\n\nTo find out more about the “Connecting the Dots with Your Project Plan” event or to register click here
URL:https://lakesuperiornerr.org/event/connecting-the-dots-with-your-project-plan-2/
CATEGORIES:Building Blocks for Sharing Science,Coastal Training Program
ATTACH;FMTTYPE=image/png:https://lakesuperiornerr.org/wp-content/uploads/sites/319/2024/06/Building-Blocks-2024-connecting-the-dots-02.png
ORGANIZER;CN="Karina Heim":MAILTO:karina.heim@wisc.edu
END:VEVENT
BEGIN:VEVENT
DTSTART;TZID=America/Chicago:20260211T180000
DTEND;TZID=America/Chicago:20260211T190000
DTSTAMP:20260424T152457
CREATED:20260116T195558Z
LAST-MODIFIED:20260227T144600Z
UID:7617-1770832800-1770836400@lakesuperiornerr.org
SUMMARY:The River Talks - Ganawenindiwag: Working with Plant Relatives to Heal Gichigami Shorelines
DESCRIPTION:Get to know the river in your backyard! Join us for The River Talks – a free learning series hosted at the Lake Superior Estuarium. \n\n\n\nThis River Talk features Karina Heim from The Lake Superior Reserve and Rob Croll from the Great Lakes Indian Fish & Wildlife Commission. \n\n\n\nLake Superior’s shorelines face growing pressures from erosion\, development\, and new climate patterns. Come learn about Ganawenindiwag (‘they take care of each other’)\, a resource that reframes plants as relatives and teachers\, offering cultural and ecological guidance for healing and protecting these coasts. \n\n\n\nParticipants may request an interpreter\, materials in an alternative language or format\, or other services to make this event more accessible\, by contacting the Reserve at least 20 days before the event. There’s no added cost to you for these services.  The University of Wisconsin–Madison Division of Extension provides equal opportunities in employment and programming in compliance with state and federal law.
URL:https://lakesuperiornerr.org/event/the-river-talks-ganawenindiwag-working-with-plant-relatives-to-heal-gichigami-shorelines/
LOCATION:Lake Superior Estuarium\, 3 Marina Drive\, Superior\, WI\, 54880\, United States
CATEGORIES:Coastal Training Program,Education,River Talks
ATTACH;FMTTYPE=image/png:https://lakesuperiornerr.org/wp-content/uploads/sites/319/2025/11/the-river-talks-logo-300.png
END:VEVENT
END:VCALENDAR