BEGIN:VCALENDAR
VERSION:2.0
PRODID:-//Lake Superior Reserve - ECPv6.15.20//NONSGML v1.0//EN
CALSCALE:GREGORIAN
METHOD:PUBLISH
X-ORIGINAL-URL:https://lakesuperiornerr.org
X-WR-CALDESC:Events for Lake Superior Reserve
REFRESH-INTERVAL;VALUE=DURATION:PT1H
X-Robots-Tag:noindex
X-PUBLISHED-TTL:PT1H
BEGIN:VTIMEZONE
TZID:America/Chicago
BEGIN:DAYLIGHT
TZOFFSETFROM:-0600
TZOFFSETTO:-0500
TZNAME:CDT
DTSTART:20170312T080000
END:DAYLIGHT
BEGIN:STANDARD
TZOFFSETFROM:-0500
TZOFFSETTO:-0600
TZNAME:CST
DTSTART:20171105T070000
END:STANDARD
BEGIN:DAYLIGHT
TZOFFSETFROM:-0600
TZOFFSETTO:-0500
TZNAME:CDT
DTSTART:20180311T080000
END:DAYLIGHT
BEGIN:STANDARD
TZOFFSETFROM:-0500
TZOFFSETTO:-0600
TZNAME:CST
DTSTART:20181104T070000
END:STANDARD
BEGIN:DAYLIGHT
TZOFFSETFROM:-0600
TZOFFSETTO:-0500
TZNAME:CDT
DTSTART:20190310T080000
END:DAYLIGHT
BEGIN:STANDARD
TZOFFSETFROM:-0500
TZOFFSETTO:-0600
TZNAME:CST
DTSTART:20191103T070000
END:STANDARD
END:VTIMEZONE
BEGIN:VEVENT
DTSTART;TZID=America/Chicago:20180313T083000
DTEND;TZID=America/Chicago:20180314T163000
DTSTAMP:20260424T222325
CREATED:20170526T005606Z
LAST-MODIFIED:20201210T185611Z
UID:1364-1520929800-1521045000@lakesuperiornerr.org
SUMMARY:8th Annual St. Louis River Summit
DESCRIPTION:[cs_content][cs_section parallax=”false” separator_top_type=”none” separator_top_height=”50px” separator_top_angle_point=”50″ separator_bottom_type=”none” separator_bottom_height=”50px” separator_bottom_angle_point=”50″ style=”margin: 0px 0px 40px;padding: 0px;”][cs_row inner_container=”true” marginless_columns=”false” style=”margin: 0px auto;padding: 0px;”][cs_column fade=”false” fade_animation=”in” fade_animation_offset=”45px” fade_duration=”750″ type=”1/2″ style=”padding: 0px;”][x_custom_headline level=”h3″ looks_like=”h6″ accent=”false” class=”mbs”]Event Details[/x_custom_headline][cs_text] \n2018 Theme:Reflecting on the Blue Mind and a Blue Economy \nKeynote Speaker:Dr. Wallace “J.” Nichols\n Renowned Scientist + Bestselling Author + World Waterman \nAbout the Summit:Like an estuary\, the St. Louis River Summit is a place where people meet and mix. It provides a diversity of solutions and strategies for a healthy St. Louis River Watershed. It also nourishes the community with education and outreach opportunities! The St. Louis River Summit brings together key audiences working in the region. \nThe Summit provides the opportunity to learn:• The status and findings of current research\, • Results of implementing projects\, and • Ideas and status for future work. \nThe Summit actively fosters communication\, networking and problem-solving on issues affecting the environmental health of the estuary and related community well-being. \n[/cs_text][/cs_column][cs_column fade=”false” fade_animation=”in” fade_animation_offset=”45px” fade_duration=”750″ type=”1/2″ style=”padding: 0px;”][x_custom_headline level=”h3″ looks_like=”h6″ accent=”false” class=”mbs”]2018 Summit Materials[/x_custom_headline][cs_text] \nAgenda \nPress Release \nPoster \nSponsorship Prospectus \n[/cs_text][/cs_column][/cs_row][/cs_section][cs_section parallax=”false” separator_top_type=”none” separator_top_height=”50px” separator_top_angle_point=”50″ separator_bottom_type=”none” separator_bottom_height=”50px” separator_bottom_angle_point=”50″ style=”margin: 0px;padding: 45px 0px 0px;”][cs_row inner_container=”true” marginless_columns=”false” style=”margin: 0px auto;padding: 0px;”][cs_column fade=”false” fade_animation=”in” fade_animation_offset=”45px” fade_duration=”750″ type=”1/1″ style=”padding: 0px;”][x_custom_headline level=”h4″ looks_like=”h6″ accent=”false” class=”mtn mbs”]Resources[/x_custom_headline][x_recent_posts type=”resources” count=”2″ offset=”” category=”summit” orientation=”horizontal” no_sticky=”true” no_image=”false” fade=”false”][/cs_column][/cs_row][/cs_section][/cs_content]
URL:https://lakesuperiornerr.org/event/8th-annual-st-louis-river-summit/
LOCATION:Yellowjacket Union\, UW-Superior\, 1605 Catlin Ave\, Superior\, WI\, 54880\, United States
CATEGORIES:Coastal Training Program,General,Summit
ATTACH;FMTTYPE=image/jpeg:https://lakesuperiornerr.org/wp-content/uploads/sites/319/2017/05/2018-st-louis-river-summit.jpg
END:VEVENT
END:VCALENDAR